Workbook

Sheet Data
A1: Project Attributes | O1: Dates
A2: Project Name | B2: Applicant(s) | C2: Application No. | D2: Filed Under | E2: Federal Involvement | F2: Permit Type | G2: Applicant's Environmental Filing Type | H2: CEQA Document Type | I2: NEPA Document Type | J2: Voltage(s) | K2: Miles or Acreage | L2: Competively Bid or Non-Competitively Bid | M2: CAISO Approval Year | N2: Expected In-Service Date | O2: CAISO Award Date | P2: 12-Month Notice Date | Q2: Date MOU Executed | R2: Date Contractor Selected | S2: Date Contract Executed | T2: Pre-Filing Date | U2: File Date | V2: Deficiency Letter 1 Date | W2: Deficiency Letter 1 Response Date | X2: Deficiency Letter 1 Topic(s) | Y2: Deficiency Letter 2 Date | Z2: Deficiency Letter 2 Response Date | AA2: Deficiency Letter 2 Topic(s) | AB2: Deficiency Letter 3 Date | AC2: Deficiency Letter 3 Response Date | AD2: Deficiency Letter 3 Topic(s) | AE2: Date Deemed Complete | AF2: Amendment 1 File Date(s) | AG2: Amendment 2 File Date | AH2: Amendment 3 File Date | AI2: Data Request 1 Date | AJ2: Data Request 1 Response Date | AK2: Data Request 1 Topic(s) | AL2: Data Request 2 Date | AM2: Data Request 2 Response Date | AN2: Data Request 2 Topic(s) | AO2: Data Request 3 Date | AP2: Data Request 3 Response Date | AQ2: Data Request 3 Topic(s) | AR2: Data Request 4 Date | AS2: Data Request 4 Response Date | AT2: Data Request 4 Topic(s) | AU2: Data Request 5 Date | AV2: Data Request 5 Response Date | AW2: Data Request 5 Topic(s) | AX2: Data Request 6 Date | AY2: Data Request 6 Response Date | AZ2: Data Request 6 Topic(s) | BA2: Data Request 7 Date | BB2: Data Request 7 Response Date | BC2: Data Request 7 Topic(s) | BD2: Data Request 8 Date | BE2: Data Request 8 Response Date | BF2: Data Request 8 Topic(s) | BG2: Public Draft CEQA Document Date | BH2: Final CEQA Document Date | BI2: Prehearing Conference Date | BJ2: Proposed Decision Date | BK2: Final Decision Date | BL2: Construction Start Date | BM2: NEPA - Lead Agency | BN2: NEPA - Lead Agency File Date | BO2: NEPA - NOI Date (if EIS) | BP2: NEPA - Public Draft NEPA Document Date | BQ2: NEPA - NHPA Section 106 Completion Date | BR2: NEPA - ESA Consultation Completion Date | BS2: NEPA - FONSI Date (if EA) | BT2: NEPA - Record of Decision Date (if EIS)
A3: Gorman-Kern River TLRR Project | B3: Southern California Edison (SCE) | C3: A.22-02-014 | D3: GO 131-D | E3: Yes | F3: PTC | G3: PEA | H3: IS/MND | I3: N/A | J3: 66 kV | K3: 65.3 miles | L3: Non-Competitively Bid | M3: N/A | N3: Q3 2029 | O3: N/A | P3: 42859 | Q3: 44010 | R3: 43752 | S3: 43805 | T3: 44393 | U3: 44620 | V3: 44649 | W3: 44824 | X3: Details on project description needed, gaps in cultural inventory survey areas & findings | Y3: 44680 | Z3: 44775 | AA3: Continued comments on cultural analysis | AB3: 44865 | AC3: 44896 | AD3: Continued comment on response to Deficiency Letter #1 | AE3: 45189 | AI3: 44970 | AJ3: 45007 | AK3: Environmental information | AL3: 45026 | AM3: 45126 | AN3: Environmental information, Environmental analysis methodology | AO3: 45085 | AP3: 45099 | AQ3: Project description information, environmental information | AR3: 45112 | AS3: 45147 | AT3: Environmental analysis methodology | AU3: 45184 | AV3: 45397 | AW3: Environmental information | AX3: 45281 | AY3: 45310 | AZ3: Project description information, environmental information | BA3: N/A | BB3: N/A | BC3: N/A | BD3: N/A | BE3: N/A | BF3: N/A | BG3: 45618 | BH3: 45743 | BI3: 45797 | BJ3: 45919 | BK3: 45960 | BM3: USFS | BN3: N/A | BO3: N/A | BP3: N/A | BQ3: N/A | BR3: N/A | BS3: N/A | BT3: N/A
A4: Manning 500/230 kV Substation Project | B4: LS Power Grid California (LSPGC) | C4: A.24-06-017 | D4: GO 131-D | E4: No | F4: CPCN | G4: PEA | H4: IS/MND | I4: N/A | J4: 230 kV, 500 kV | K4: 11.5 miles | L4: Competitively Bid | M4: 2022 | N4: 46905 | O4: 44949 | P4: 44971 | Q4: 45061 | R4: 45012 | S4: 45104 | T4: 45322 | U4: 45471 | V4: N/A | W4: N/A | X4: N/A | Y4: N/A | Z4: N/A | AA4: N/A | AB4: N/A | AC4: N/A | AD4: N/A | AE4: 45497 | AF4: N/A | AG4: N/A | AH4: N/A | AI4: 45497 | AJ4: 45555 | AK4: Project description information, Environmental information, Environmental analysis methodology | AL4: 45715 | AM4: 45719 | AN4: Environmental information | AO4: 45794 | AP4: 45800 | AQ4: Environmental information | AR4: 45807 | AS4: 45813 | AT4: Environmental information | AU4: N/A | AV4: N/A | AW4: N/A | AX4: N/A | AY4: N/A | AZ4: N/A | BA4: N/A | BB4: N/A | BC4: N/A | BD4: N/A | BE4: N/A | BF4: N/A | BG4: 45735 | BH4: 45829 | BI4: 45791 | BJ4: 45908 | BK4: 45918 | BL4: 46073 | BM4: N/A | BN4: N/A | BO4: N/A | BP4: N/A | BQ4: N/A | BR4: N/A | BS4: N/A | BT4: N/A
A5: Plainfield Substation Upgrade Project | B5: Pacific Gas & Electric (PG&E) | C5: A.24-06-008 | D5: GO 131-D | E5: No | F5: PTC | G5: PEA | H5: IS/MND | I5: N/A | J5: 60 kV | K5: 6.1 acres | L5: Non-Competitively Bid | M5: 2011 | N5: 46569 | O5: 40674 | P5: 44960 | Q5: 45023 | R5: 44962 | S5: 45089 | T5: 45261 | U5: 45461 | V5: N/A | W5: N/A | X5: N/A | Y5: N/A | Z5: N/A | AA5: N/A | AB5: N/A | AC5: N/A | AD5: N/A | AE5: 45490 | AF5: N/A | AG5: N/A | AH5: N/A | AI5: 45490 | AJ5: 45506 | AK5: Project description information, Environmental information, Environmental analysis methodology, Data | AL5: 45630 | AM5: 45638 | AN5: Project description information | AO5: N/A | AP5: N/A | AQ5: N/A | AR5: N/A | AS5: N/A | AT5: N/A | AU5: N/A | AV5: N/A | AW5: N/A | AX5: N/A | AY5: N/A | AZ5: N/A | BA5: N/A | BB5: N/A | BC5: N/A | BD5: N/A | BE5: N/A | BF5: N/A | BG5: 45756 | BH5: 45846 | BI5: 45820 | BJ5: 45971 | BK5: 45981 | BM5: N/A | BN5: N/A | BO5: N/A | BP5: N/A | BQ5: N/A | BR5: N/A | BS5: N/A | BT5: N/A
A6: Power the South Bay Project | B6: LS Power Grid California (LSPGC) | C6: A.24-05-014 | D6: GO 131-D | E6: No | F6: CPCN | G6: PEA | H6: EIR | I6: N/A | J6: 230 kV | K6: 12 miles | L6: Competitively Bid | M6: 2022 | N6: 46905 | O6: 45012 | P6: 45013 | Q6: 45183 | R6: 45072 | S6: 45187 | T6: 45343 | U6: 45429 | V6: N/A | W6: N/A | X6: N/A | Y6: N/A | Z6: N/A | AA6: N/A | AB6: N/A | AC6: N/A | AD6: N/A | AE6: 45456 | AF6: 45716 | AG6: N/A | AH6: N/A | AI6: 45456 | AJ6: 45483 | AK6: Project description information, Environmental information, Environmental analysis methodology, Data | AL6: 45638 | AM6: 45646 | AN6: Project description information, environmental information | AO6: 45658 | AP6: 45672 | AQ6: Project description information, environmental information | AR6: 45742 | AS6: 45768 | AT6: APSA | AU6: 45779 | AV6: 45800 | AW6: Environmental information | AX6: 45869 | AY6: 45888 | AZ6: Project description information | BA6: 45897 | BB6: 45918 | BC6: Project description information, Consultation | BD6: 45940 | BE6: 45943 | BF6: Project description information, environmental information, Consultation | BG6: 45817 | BH6: 46003 | BI6: 46013 | BJ6: 45725 | BK6: 46100 | BL6: 46111 | BM6: N/A | BN6: N/A | BO6: N/A | BP6: N/A | BQ6: N/A | BR6: N/A | BS6: N/A | BT6: N/A
A7: Ironwood Transmission Line Project | B7: Horizon West Transmission (HWT) | C7: A.25-09-008 | D7: GO 131-E | E7: Yes | F7: CPCN | G7: PEA | H7: EIR | I7: EIS | J7: 500 kV | K7: 86 miles | L7: Competitively Bid | M7: 2023 | N7: 48366 | O7: 45393 | P7: 45502 | Q7: 45671 | R7: 45541 | S7: 45660 | T7: 45702 | U7: 45922 | V7: 45952 | W7: 46043 | X7: Project description information, Environmental information, Environmental analysis methodology, Data | AE7: 46091 | BM7: BLM | BN7: 45730 | BS7: N/A
A8: Orange Regional Transmission Project | B8: Southern California Edison (SCE) | C8: TBD | D8: GO 131-E | E8: No | F8: CPCN | G8: Admin Draft | H8: EIR (expected) | I8: N/A | J8: 500 kV | K8: 30 miles | L8: Competitively Bid | M8: 2023 | N8: 49096 | O8: 45443 | P8: 45825 | Q8: 45982 | R8: 45825 | S8: 45968 | T8: 46154 | V8: N/A | BM8: N/A | BN8: N/A | BO8: N/A | BP8: N/A | BQ8: N/A | BR8: N/A | BS8: N/A | BT8: N/A
A9: Suncrest 230 kV Loop-in Project | B9: San Diego Gas & Electric (SDG&E) | C9: A.26-05-005 | D9: GO 131-E | E9: Yes | F9: PTC | G9: Admin Draft | H9: EIR | I9: TBD | J9: 230 kV | K9: 16 miles | L9: Non-Competitively Bid | M9: 2023 | N9: 2032 | O9: 45068 | P9: 45688 | Q9: 45840 | R9: 45719 | S9: 45834 | T9: 45826 | U9: 46150 | V9: N/A | AE9: 46177 | BM9: USFS | BN9: 45932 | BO9: N/A | BT9: N/A
A10: Timepiece 115/33 kV Substation Project | B10: Southern California Edison (SCE) | C10: TBD | D10: GO 131-E | E10: No | F10: PTC | G10: Admin Draft | H10: IS/MND (expected) | I10: N/A | J10: 115 kV, 33 kV | K10: TBD | L10: Non-Competitively Bid | M10: N/A | N10: Q2 2030 | O10: N/A | P10: 45824 | R10: 45999 | S10: 46141 | V10: N/A | BM10: N/A | BN10: N/A | BO10: N/A | BP10: N/A | BQ10: N/A | BR10: N/A | BS10: N/A | BT10: N/A

Sheet Metrics (Detailed)
A1: Performance Metrics (Detailed)
A2: Project Name | B2: Time from CAISO Award to 12-Month Notice (days) | C2: Time from 12-Month Notice to Pre-Filing Date (days) | D2: Pre-Filing Time to Date (days) | E2: Contract Execution Time (days) | F2: Number of Deficiency Letters | G2: Deficiency Letter Response Time (Average) | H2: Deficiency Letter Response Time (Total) (days) | I2: Number of Data Requests | J2: Data Request Response Time (Average) (days) | K2: Data Request Response Time (Total) (days) | L2: Time to Release Public Draft (days) | M2: Number of Public Comments | N2: Time from Draft CEQA to PHC | O2: Time from Final CEQA to Final Decision | P2: Time from PHC to Final Decision | Q2: Time from NEPA Filing to NHPA Completion | R2: Time from NEPA Filing to ESA Completion | S2: Time from NEPA Filing to FONSI or Record of Decision
A3: Gorman-Kern River TLRR Project | B3: =IF(ISNUMBER(Data!$O3),(Data!$P3-Data!$O3),"N/A") -> N/A | C3: =IF(ISNUMBER(Data!$T3),(Data!T3-Data!P3),"TBD") -> 1534 | D3: =IF(ISNUMBER(Data!$U3),(Data!$U3-Data!$T3),IF(ISNUMBER(Data!$T3),(46294-Data!$T3),"TBD")) -> 227 | E3: =IF(ISNUMBER(Data!$S3),(Data!S3-Data!R3),"TBD") -> 53 | F3: =IF(Data!$V3="N/A","0",(ROUNDUP((COUNT(Data!$V3:$AD3)/2),0))) -> 3 | G3: =IF(Data!$V3="N/A","N/A",(AVERAGE(_xlfn.IFS(ISNUMBER(Data!$W3-Data!$V3),(Data!$W3-Data!$V3),ISNUMBER(Data!$Z3-Data!$Y3),(Data!$Z3-Data!$Y3),ISNUMBER(Data!$AC3-Data!$AB3),(Data!$AC3-Data!$AB3))))) -> 175 | H3: =IF(Data!$V3="N/A","N/A",(SUM(IF(ISNUMBER(Data!$W3-Data!$V3),(Data!$W3-Data!$V3)),IF(ISNUMBER(Data!$Z3-Data!$Y3),(Data!$Z3-Data!$Y3)),IF(ISNUMBER(Data!$AC3-Data!$AB3),(Data!$AC3-Data!$AB3))))) -> 301 | I3: =IF(Data!$AI3="N/A","0",(ROUNDUP((COUNT(Data!$AI3:$BF3)/2),0))) -> 6 | J3: =IF(Data!$AI3="","N/A",(AVERAGE((Data!$AJ3-Data!$AI3),(Data!$AM3-Data!$AL3),(Data!$AP3-Data!$AO3),(Data!$AS3-Data!$AR3),(Data!$AV3-Data!$AU3),(Data!$AY3-Data!$AX3)))) -> 71.333333 | K3: =IF(Data!$AI3="","N/A",(SUM(IF(ISNUMBER(Data!$AJ3-Data!$AI3),(Data!$AJ3-Data!$AI3),""),IF(ISNUMBER(Data!$AM3-Data!$AL3),(Data!$AM3-Data!$AL3),""),IF(ISNUMBER(Data!$AP3-Data!$AO3),(Data!$AP3-Data!$AO3),""),IF(ISNUMBER(Data!$AS3-Data!$AR3),(Data!$AS3-Data!$AR3),""),IF(ISNUMBER(Data!$AV3-Data!$AU3),(Data!$AV3-Data!$AU3),""),IF(ISNUMBER(Data!$AY3-Data!$AX3),(Data!$AY3-Data!$AX3),"")))) -> 428 | L3: =IF(ISNUMBER(Data!$BG3),(Data!$BG3-Data!$AE3),"In progress") -> 429 | M3: 18 | N3: =IF(ISNUMBER(Data!$BI3),(Data!$BI3-Data!$BG3),"In progress") -> 179 | O3: =IF(Data!$BK3="","In progress",(Data!$BK3-Data!$BH3)) -> 217 | P3: =IF(Data!$BK3="","In progress",(Data!$BK3-Data!$BI3)) -> 163 | Q3: {=IF(Data!$E3="No","N/A",(_xlfn.IFS(Data!$BQ3="","In progress",ISNUMBER(Data!$BQ3),(Data!$BQ3-Data!$BN3),Data!$BQ3="N/A","N/A")))} -> N/A | R3: {=IF(Data!$E3="No","N/A",(_xlfn.IFS(Data!$BR3="","In progress",ISNUMBER(Data!$BR3),(Data!$BR3-Data!$BN3),Data!$BR3="N/A","N/A")))} -> N/A | S3: {=IF(Data!$E3="No","N/A",(_xlfn.IFS(Data!$BS3="","In progress",Data!$BT3="","In progress",ISNUMBER(Data!$BS3),(Data!$BS3-Data!$BN3),Data!$BS3="N/A","N/A")))} -> N/A
A4: Manning 500/230 kV Substation Project | B4: =IF(ISNUMBER(Data!$O4),(Data!$P4-Data!$O4),"N/A") -> 22 | C4: =IF(ISNUMBER(Data!$T4),(Data!T4-Data!P4),"TBD") -> 351 | D4: =IF(ISNUMBER(Data!$U4),(Data!$U4-Data!$T4),IF(ISNUMBER(Data!$T4),(46294-Data!$T4),"TBD")) -> 149 | E4: =IF(ISNUMBER(Data!$S4),(Data!S4-Data!R4),"TBD") -> 92 | F4: =IF(Data!$V4="N/A","0",(ROUNDUP((COUNT(Data!$V4:$AD4)/2),0))) -> 0 | G4: =IF(Data!$V4="N/A","N/A",(AVERAGE(_xlfn.IFS(ISNUMBER(Data!$W4-Data!$V4),(Data!$W4-Data!$V4),ISNUMBER(Data!$Z4-Data!$Y4),(Data!$Z4-Data!$Y4),ISNUMBER(Data!$AC4-Data!$AB4),(Data!$AC4-Data!$AB4))))) -> N/A | H4: =IF(Data!$V4="N/A","N/A",(SUM(IF(ISNUMBER(Data!$W4-Data!$V4),(Data!$W4-Data!$V4)),IF(ISNUMBER(Data!$Z4-Data!$Y4),(Data!$Z4-Data!$Y4)),IF(ISNUMBER(Data!$AC4-Data!$AB4),(Data!$AC4-Data!$AB4))))) -> N/A | I4: =IF(Data!$AI4="N/A","0",(ROUNDUP((COUNT(Data!$AI4:$BF4)/2),0))) -> 4 | J4: =IF(Data!$AI4="","N/A",(AVERAGE((Data!$AJ4-Data!$AI4),(Data!$AM4-Data!$AL4),(Data!$AP4-Data!$AO4),(Data!$AS4-Data!$AR4)))) -> 18.5 | K4: =IF(Data!$AI4="","N/A",(SUM(IF(ISNUMBER(Data!$AJ4-Data!$AI4),(Data!$AJ4-Data!$AI4),""),IF(ISNUMBER(Data!$AM4-Data!$AL4),(Data!$AM4-Data!$AL4),""),IF(ISNUMBER(Data!$AP4-Data!$AO4),(Data!$AP4-Data!$AO4),""),IF(ISNUMBER(Data!$AS4-Data!$AR4),(Data!$AS4-Data!$AR4),"")))) -> 74 | L4: =IF(ISNUMBER(Data!$BG4),(Data!$BG4-Data!$AE4),"In progress") -> 238 | M4: 5 | N4: =IF(ISNUMBER(Data!$BI4),(Data!$BI4-Data!$BG4),"In progress") -> 56 | O4: =IF(Data!$BK4="","In progress",(Data!$BK4-Data!$BH4)) -> 89 | P4: =IF(Data!$BK4="","In progress",(Data!$BK4-Data!$BI4)) -> 127 | Q4: {=IF(Data!$E4="No","N/A",(_xlfn.IFS(Data!$BQ4="","In progress",ISNUMBER(Data!$BQ4),(Data!$BQ4-Data!$BN4),Data!$BQ4="N/A","N/A")))} -> N/A | R4: {=IF(Data!$E4="No","N/A",(_xlfn.IFS(Data!$BR4="","In progress",ISNUMBER(Data!$BR4),(Data!$BR4-Data!$BN4),Data!$BR4="N/A","N/A")))} -> N/A | S4: {=IF(Data!$E4="No","N/A",(_xlfn.IFS(Data!$BS4="","In progress",Data!$BT4="","In progress",ISNUMBER(Data!$BS4),(Data!$BS4-Data!$BN4),Data!$BS4="N/A","N/A")))} -> N/A
A5: Plainfield Substation Project | B5: =IF(ISNUMBER(Data!$O5),(Data!$P5-Data!$O5),"N/A") -> 4286 | C5: =IF(ISNUMBER(Data!$T5),(Data!T5-Data!P5),"TBD") -> 301 | D5: =IF(ISNUMBER(Data!$U5),(Data!$U5-Data!$T5),IF(ISNUMBER(Data!$T5),(46294-Data!$T5),"TBD")) -> 200 | E5: =IF(ISNUMBER(Data!$S5),(Data!S5-Data!R5),"TBD") -> 127 | F5: =IF(Data!$V5="N/A","0",(ROUNDUP((COUNT(Data!$V5:$AD5)/2),0))) -> 0 | G5: =IF(Data!$V5="N/A","N/A",(AVERAGE(_xlfn.IFS(ISNUMBER(Data!$W5-Data!$V5),(Data!$W5-Data!$V5),ISNUMBER(Data!$Z5-Data!$Y5),(Data!$Z5-Data!$Y5),ISNUMBER(Data!$AC5-Data!$AB5),(Data!$AC5-Data!$AB5))))) -> N/A | H5: =IF(Data!$V5="N/A","N/A",(SUM(IF(ISNUMBER(Data!$W5-Data!$V5),(Data!$W5-Data!$V5)),IF(ISNUMBER(Data!$Z5-Data!$Y5),(Data!$Z5-Data!$Y5)),IF(ISNUMBER(Data!$AC5-Data!$AB5),(Data!$AC5-Data!$AB5))))) -> N/A | I5: =IF(Data!$AI5="N/A","0",(ROUNDUP((COUNT(Data!$AI5:$BF5)/2),0))) -> 2 | J5: =IF(Data!$AI5="","N/A",(AVERAGE((Data!$AJ5-Data!$AI5),(Data!$AM5-Data!$AL5)))) -> 12 | K5: =IF(Data!$AI5="","N/A",(SUM(IF(ISNUMBER(Data!$AJ5-Data!$AI5),(Data!$AJ5-Data!$AI5),""),IF(ISNUMBER(Data!$AM5-Data!$AL5),(Data!$AM5-Data!$AL5),"")))) -> 24 | L5: =IF(ISNUMBER(Data!$BG5),(Data!$BG5-Data!$AE5),"In progress") -> 266 | M5: 4 | N5: =IF(ISNUMBER(Data!$BI5),(Data!$BI5-Data!$BG5),"In progress") -> 64 | O5: =IF(Data!$BK5="","In progress",(Data!$BK5-Data!$BH5)) -> 135 | P5: =IF(Data!$BK5="","In progress",(Data!$BK5-Data!$BI5)) -> 161 | Q5: {=IF(Data!$E5="No","N/A",(_xlfn.IFS(Data!$BQ5="","In progress",ISNUMBER(Data!$BQ5),(Data!$BQ5-Data!$BN5),Data!$BQ5="N/A","N/A")))} -> N/A | R5: {=IF(Data!$E5="No","N/A",(_xlfn.IFS(Data!$BR5="","In progress",ISNUMBER(Data!$BR5),(Data!$BR5-Data!$BN5),Data!$BR5="N/A","N/A")))} -> N/A | S5: {=IF(Data!$E5="No","N/A",(_xlfn.IFS(Data!$BS5="","In progress",Data!$BT5="","In progress",ISNUMBER(Data!$BS5),(Data!$BS5-Data!$BN5),Data!$BS5="N/A","N/A")))} -> N/A
A6: Power the South Bay Project | B6: =IF(ISNUMBER(Data!$O6),(Data!$P6-Data!$O6),"N/A") -> 1 | C6: =IF(ISNUMBER(Data!$T6),(Data!T6-Data!P6),"TBD") -> 330 | D6: =IF(ISNUMBER(Data!$U6),(Data!$U6-Data!$T6),IF(ISNUMBER(Data!$T6),(46294-Data!$T6),"TBD")) -> 86 | E6: =IF(ISNUMBER(Data!$S6),(Data!S6-Data!R6),"TBD") -> 115 | F6: =IF(Data!$V6="N/A","0",(ROUNDUP((COUNT(Data!$V6:$AD6)/2),0))) -> 0 | G6: =IF(Data!$V6="N/A","N/A",(AVERAGE(_xlfn.IFS(ISNUMBER(Data!$W6-Data!$V6),(Data!$W6-Data!$V6),ISNUMBER(Data!$Z6-Data!$Y6),(Data!$Z6-Data!$Y6),ISNUMBER(Data!$AC6-Data!$AB6),(Data!$AC6-Data!$AB6))))) -> N/A | H6: =IF(Data!$V6="N/A","N/A",(SUM(IF(ISNUMBER(Data!$W6-Data!$V6),(Data!$W6-Data!$V6)),IF(ISNUMBER(Data!$Z6-Data!$Y6),(Data!$Z6-Data!$Y6)),IF(ISNUMBER(Data!$AC6-Data!$AB6),(Data!$AC6-Data!$AB6))))) -> N/A | I6: =IF(Data!$AI6="N/A","0",(ROUNDUP((COUNT(Data!$AI6:$BF6)/2),0))) -> 8 | J6: =IF(Data!$AI6="","N/A",(AVERAGE((Data!$AJ6-Data!$AI6),(Data!$AM6-Data!$AL6),(Data!$AP6-Data!$AO6),(Data!$AS6-Data!$AR6),(Data!$AV6-Data!$AU6),(Data!$AY6-Data!$AX6),(Data!$BB6-Data!$BA6),(Data!$BE6-Data!$BD6)))) -> 17.375 | K6: =IF(Data!$AI6="","N/A",(SUM(IF(ISNUMBER(Data!$AJ6-Data!$AI6),(Data!$AJ6-Data!$AI6),""),IF(ISNUMBER(Data!$AM6-Data!$AL6),(Data!$AM6-Data!$AL6),""),IF(ISNUMBER(Data!$AP6-Data!$AO6),(Data!$AP6-Data!$AO6),""),IF(ISNUMBER(Data!$AS6-Data!$AR6),(Data!$AS6-Data!$AR6),""),IF(ISNUMBER(Data!$AV6-Data!$AU6),(Data!$AV6-Data!$AU6),""),IF(ISNUMBER(Data!$AY6-Data!$AX6),(Data!$AY6-Data!$AX6),""),IF(ISNUMBER(Data!$BB6-Data!$BA6),(Data!$BB6-Data!$BA6),""),IF(ISNUMBER(Data!$BE6-Data!$BD6),(Data!$BE6-Data!$BD6),"")))) -> 139 | L6: =IF(ISNUMBER(Data!$BG6),(Data!$BG6-Data!$AE6),"In progress") -> 361 | M6: 12 | N6: =IF(ISNUMBER(Data!$BI6),(Data!$BI6-Data!$BG6),"In progress") -> 196 | O6: =IF(Data!$BK6="","In progress",(Data!$BK6-Data!$BH6)) -> 97 | P6: =IF(Data!$BK6="","In progress",(Data!$BK6-Data!$BI6)) -> 87 | Q6: {=IF(Data!$E6="No","N/A",(_xlfn.IFS(Data!$BQ6="","In progress",ISNUMBER(Data!$BQ6),(Data!$BQ6-Data!$BN6),Data!$BQ6="N/A","N/A")))} -> N/A | R6: {=IF(Data!$E6="No","N/A",(_xlfn.IFS(Data!$BR6="","In progress",ISNUMBER(Data!$BR6),(Data!$BR6-Data!$BN6),Data!$BR6="N/A","N/A")))} -> N/A | S6: {=IF(Data!$E6="No","N/A",(_xlfn.IFS(Data!$BS6="","In progress",Data!$BT6="","In progress",ISNUMBER(Data!$BS6),(Data!$BS6-Data!$BN6),Data!$BS6="N/A","N/A")))} -> N/A
A7: Ironwood Transmission Line Project | B7: =IF(ISNUMBER(Data!$O7),(Data!$P7-Data!$O7),"N/A") -> 109 | C7: =IF(ISNUMBER(Data!$T7),(Data!T7-Data!P7),"TBD") -> 200 | D7: =IF(ISNUMBER(Data!$U7),(Data!$U7-Data!$T7),IF(ISNUMBER(Data!$T7),(46294-Data!$T7),"TBD")) -> 220 | E7: =IF(ISNUMBER(Data!$S7),(Data!S7-Data!R7),"TBD") -> 119 | F7: =IF(Data!$V7="N/A","0",(ROUNDUP((COUNT(Data!$V7:$AD7)/2),0))) -> 1 | G7: =IF(Data!$V7="N/A","N/A",(AVERAGE(_xlfn.IFS(ISNUMBER(Data!$W7-Data!$V7),(Data!$W7-Data!$V7),ISNUMBER(Data!$Z7-Data!$Y7),(Data!$Z7-Data!$Y7),ISNUMBER(Data!$AC7-Data!$AB7),(Data!$AC7-Data!$AB7))))) -> 91 | H7: =IF(Data!$V7="N/A","N/A",(SUM(IF(ISNUMBER(Data!$W7-Data!$V7),(Data!$W7-Data!$V7)),IF(ISNUMBER(Data!$Z7-Data!$Y7),(Data!$Z7-Data!$Y7)),IF(ISNUMBER(Data!$AC7-Data!$AB7),(Data!$AC7-Data!$AB7))))) -> 91 | I7: =IF(Data!$AI7="N/A","0",(ROUNDUP((COUNT(Data!$AI7:$BF7)/2),0))) -> 0 | J7: =IF(Data!$AI7="","N/A",(AVERAGE((Data!$AJ7-Data!$AI7),(Data!$AM7-Data!$AL7),(Data!$AP7-Data!$AO7),(Data!$AS7-Data!$AR7),(Data!$AV7-Data!$AU7),(Data!$AY7-Data!$AX7),(Data!$BB7-Data!$BA7),(Data!$BE7-Data!$BD7)))) -> N/A | K7: =IF(Data!$AI7="","N/A",(SUM(IF(ISNUMBER(Data!$AJ7-Data!$AI7),(Data!$AJ7-Data!$AI7),""),IF(ISNUMBER(Data!$AM7-Data!$AL7),(Data!$AM7-Data!$AL7),""),IF(ISNUMBER(Data!$AP7-Data!$AO7),(Data!$AP7-Data!$AO7),"")))) -> N/A | L7: =IF(ISNUMBER(Data!$BG7),(Data!$BG7-Data!$AE7),"In progress") -> In progress | M7: TBD | N7: =IF(ISNUMBER(Data!$BI7),(Data!$BI7-Data!$BG7),"In progress") -> In progress | O7: =IF(Data!$BK7="","In progress",(Data!$BK7-Data!$BH7)) -> In progress | P7: =IF(Data!$BK7="","In progress",(Data!$BK7-Data!$BI7)) -> In progress | Q7: {=IF(Data!$E7="No","N/A",(_xlfn.IFS(Data!$BQ7="","In progress",ISNUMBER(Data!$BQ7),(Data!$BQ7-Data!$BN7),Data!$BQ7="N/A","N/A")))} -> In progress | R7: {=IF(Data!$E7="No","N/A",(_xlfn.IFS(Data!$BR7="","In progress",ISNUMBER(Data!$BR7),(Data!$BR7-Data!$BN7),Data!$BR7="N/A","N/A")))} -> In progress | S7: {=IF(Data!$E7="No","N/A",(_xlfn.IFS(Data!$BS7="","In progress",Data!$BT7="","In progress",ISNUMBER(Data!$BS7),(Data!$BS7-Data!$BN7),Data!$BS7="N/A","N/A")))} -> In progress
A8: Orange Regional Transmission Project | B8: =IF(ISNUMBER(Data!$O8),(Data!$P8-Data!$O8),"N/A") -> 382 | C8: =IF(ISNUMBER(Data!$T8),(Data!T8-Data!P8),"TBD") -> 329 | D8: =IF(ISNUMBER(Data!$U8),(Data!$U8-Data!$T8),IF(ISNUMBER(Data!$T8),(46294-Data!$T8),"TBD")) -> 140 | E8: =IF(ISNUMBER(Data!$S8),(Data!S8-Data!R8),"TBD") -> 143 | F8: =IF(Data!$V8="N/A","0",(ROUNDUP((COUNT(Data!$V8:$AD8)/2),0))) -> 0 | G8: =IF(Data!$V8="N/A","N/A",(AVERAGE(_xlfn.IFS(ISNUMBER(Data!$W8-Data!$V8),(Data!$W8-Data!$V8),ISNUMBER(Data!$Z8-Data!$Y8),(Data!$Z8-Data!$Y8),ISNUMBER(Data!$AC8-Data!$AB8),(Data!$AC8-Data!$AB8))))) -> N/A | H8: =IF(Data!$V8="N/A","N/A",(SUM(IF(ISNUMBER(Data!$W8-Data!$V8),(Data!$W8-Data!$V8)),IF(ISNUMBER(Data!$Z8-Data!$Y8),(Data!$Z8-Data!$Y8)),IF(ISNUMBER(Data!$AC8-Data!$AB8),(Data!$AC8-Data!$AB8))))) -> N/A | I8: =IF(Data!$AI8="N/A","0",(ROUNDUP((COUNT(Data!$AI8:$BF8)/2),0))) -> 0 | J8: =IF(Data!$AI8="","N/A",(AVERAGE((Data!$AJ8-Data!$AI8),(Data!$AM8-Data!$AL8),(Data!$AP8-Data!$AO8),(Data!$AS8-Data!$AR8),(Data!$AV8-Data!$AU8),(Data!$AY8-Data!$AX8),(Data!$BB8-Data!$BA8),(Data!$BE8-Data!$BD8)))) -> N/A | K8: =IF(Data!$AI8="","N/A",(SUM(IF(ISNUMBER(Data!$AJ8-Data!$AI8),(Data!$AJ8-Data!$AI8),""),IF(ISNUMBER(Data!$AM8-Data!$AL8),(Data!$AM8-Data!$AL8),""),IF(ISNUMBER(Data!$AP8-Data!$AO8),(Data!$AP8-Data!$AO8),"")))) -> N/A | L8: =IF(ISNUMBER(Data!$BG8),(Data!$BG8-Data!$AE8),"In progress") -> In progress | M8: TBD | N8: =IF(ISNUMBER(Data!$BI8),(Data!$BI8-Data!$BG8),"In progress") -> In progress | O8: =IF(Data!$BK8="","In progress",(Data!$BK8-Data!$BH8)) -> In progress | P8: =IF(Data!$BK8="","In progress",(Data!$BK8-Data!$BI8)) -> In progress | Q8: {=IF(Data!$E8="No","N/A",(_xlfn.IFS(Data!$BQ8="","In progress",ISNUMBER(Data!$BQ8),(Data!$BQ8-Data!$BN8),Data!$BQ8="N/A","N/A")))} -> N/A | R8: {=IF(Data!$E8="No","N/A",(_xlfn.IFS(Data!$BR8="","In progress",ISNUMBER(Data!$BR8),(Data!$BR8-Data!$BN8),Data!$BR8="N/A","N/A")))} -> N/A | S8: {=IF(Data!$E8="No","N/A",(_xlfn.IFS(Data!$BS8="","In progress",Data!$BT8="","In progress",ISNUMBER(Data!$BS8),(Data!$BS8-Data!$BN8),Data!$BS8="N/A","N/A")))} -> N/A
A9: Suncrest 230 kV Loop-in Project | B9: =IF(ISNUMBER(Data!$O9),(Data!$P9-Data!$O9),"N/A") -> 620 | C9: =IF(ISNUMBER(Data!$T9),(Data!T9-Data!P9),"TBD") -> 138 | D9: =IF(ISNUMBER(Data!$U9),(Data!$U9-Data!$T9),IF(ISNUMBER(Data!$T9),(46294-Data!$T9),"TBD")) -> 324 | E9: =IF(ISNUMBER(Data!$S9),(Data!S9-Data!R9),"TBD") -> 115 | F9: =IF(Data!$V9="N/A","0",(ROUNDUP((COUNT(Data!$V9:$AD9)/2),0))) -> 0 | G9: =IF(Data!$V9="N/A","N/A",(AVERAGE(_xlfn.IFS(ISNUMBER(Data!$W9-Data!$V9),(Data!$W9-Data!$V9),ISNUMBER(Data!$Z9-Data!$Y9),(Data!$Z9-Data!$Y9),ISNUMBER(Data!$AC9-Data!$AB9),(Data!$AC9-Data!$AB9))))) -> N/A | H9: =IF(Data!$V9="N/A","N/A",(SUM(IF(ISNUMBER(Data!$W9-Data!$V9),(Data!$W9-Data!$V9)),IF(ISNUMBER(Data!$Z9-Data!$Y9),(Data!$Z9-Data!$Y9)),IF(ISNUMBER(Data!$AC9-Data!$AB9),(Data!$AC9-Data!$AB9))))) -> N/A | I9: =IF(Data!$AI9="N/A","0",(ROUNDUP((COUNT(Data!$AI9:$BF9)/2),0))) -> 0 | J9: =IF(Data!$AI9="","N/A",(AVERAGE((Data!$AJ9-Data!$AI9),(Data!$AM9-Data!$AL9),(Data!$AP9-Data!$AO9),(Data!$AS9-Data!$AR9),(Data!$AV9-Data!$AU9),(Data!$AY9-Data!$AX9),(Data!$BB9-Data!$BA9),(Data!$BE9-Data!$BD9)))) -> N/A | K9: =IF(Data!$AI9="","N/A",(SUM(IF(ISNUMBER(Data!$AJ9-Data!$AI9),(Data!$AJ9-Data!$AI9),""),IF(ISNUMBER(Data!$AM9-Data!$AL9),(Data!$AM9-Data!$AL9),""),IF(ISNUMBER(Data!$AP9-Data!$AO9),(Data!$AP9-Data!$AO9),"")))) -> N/A | L9: =IF(ISNUMBER(Data!$BG9),(Data!$BG9-Data!$AE9),"In progress") -> In progress | M9: TBD | N9: =IF(ISNUMBER(Data!$BI9),(Data!$BI9-Data!$BG9),"In progress") -> In progress | O9: =IF(Data!$BK9="","In progress",(Data!$BK9-Data!$BH9)) -> In progress | P9: =IF(Data!$BK9="","In progress",(Data!$BK9-Data!$BI9)) -> In progress | Q9: {=IF(Data!$E9="No","N/A",(_xlfn.IFS(Data!$BQ9="","In progress",ISNUMBER(Data!$BQ9),(Data!$BQ9-Data!$BN9),Data!$BQ9="N/A","N/A")))} -> In progress | R9: {=IF(Data!$E9="No","N/A",(_xlfn.IFS(Data!$BR9="","In progress",ISNUMBER(Data!$BR9),(Data!$BR9-Data!$BN9),Data!$BR9="N/A","N/A")))} -> In progress | S9: {=IF(Data!$E9="No","N/A",(_xlfn.IFS(Data!$BS9="","In progress",Data!$BT9="","In progress",ISNUMBER(Data!$BS9),(Data!$BS9-Data!$BN9),Data!$BS9="N/A","N/A")))} -> In progress
A10: Timepiece 115/33 kV Substation Project | B10: =IF(ISNUMBER(Data!$O10),(Data!$P10-Data!$O10),"N/A") -> N/A | C10: =IF(ISNUMBER(Data!$T10),(Data!T10-Data!P10),"TBD") -> TBD | D10: =IF(ISNUMBER(Data!$U10),(Data!$U10-Data!$T10),IF(ISNUMBER(Data!$T10),(46294-Data!$T10),"TBD")) -> TBD | E10: =IF(ISNUMBER(Data!$S10),(Data!S10-Data!R10),"TBD") -> 142 | F10: =IF(Data!$V10="N/A","0",(ROUNDUP((COUNT(Data!$V10:$AD10)/2),0))) -> 0 | G10: =IF(Data!$V10="N/A","N/A",(AVERAGE(_xlfn.IFS(ISNUMBER(Data!$W10-Data!$V10),(Data!$W10-Data!$V10),ISNUMBER(Data!$Z10-Data!$Y10),(Data!$Z10-Data!$Y10),ISNUMBER(Data!$AC10-Data!$AB10),(Data!$AC10-Data!$AB10))))) -> N/A | H10: =IF(Data!$V10="N/A","N/A",(SUM(IF(ISNUMBER(Data!$W10-Data!$V10),(Data!$W10-Data!$V10)),IF(ISNUMBER(Data!$Z10-Data!$Y10),(Data!$Z10-Data!$Y10)),IF(ISNUMBER(Data!$AC10-Data!$AB10),(Data!$AC10-Data!$AB10))))) -> N/A | I10: =IF(Data!$AI10="N/A","0",(ROUNDUP((COUNT(Data!$AI10:$BF10)/2),0))) -> 0 | J10: =IF(Data!$AI10="","N/A",(AVERAGE((Data!$AJ10-Data!$AI10),(Data!$AM10-Data!$AL10),(Data!$AP10-Data!$AO10),(Data!$AS10-Data!$AR10),(Data!$AV10-Data!$AU10),(Data!$AY10-Data!$AX10),(Data!$BB10-Data!$BA10),(Data!$BE10-Data!$BD10)))) -> N/A | K10: =IF(Data!$AI10="","N/A",(SUM(IF(ISNUMBER(Data!$AJ10-Data!$AI10),(Data!$AJ10-Data!$AI10),""),IF(ISNUMBER(Data!$AM10-Data!$AL10),(Data!$AM10-Data!$AL10),""),IF(ISNUMBER(Data!$AP10-Data!$AO10),(Data!$AP10-Data!$AO10),"")))) -> N/A | L10: =IF(ISNUMBER(Data!$BG10),(Data!$BG10-Data!$AE10),"In progress") -> In progress | M10: TBD | N10: =IF(ISNUMBER(Data!$BI10),(Data!$BI10-Data!$BG10),"In progress") -> In progress | O10: =IF(Data!$BK10="","In progress",(Data!$BK10-Data!$BH10)) -> In progress | P10: =IF(Data!$BK10="","In progress",(Data!$BK10-Data!$BI10)) -> In progress | Q10: {=IF(Data!$E10="No","N/A",(_xlfn.IFS(Data!$BQ10="","In progress",ISNUMBER(Data!$BQ10),(Data!$BQ10-Data!$BN10),Data!$BQ10="N/A","N/A")))} -> N/A | R10: {=IF(Data!$E10="No","N/A",(_xlfn.IFS(Data!$BR10="","In progress",ISNUMBER(Data!$BR10),(Data!$BR10-Data!$BN10),Data!$BR10="N/A","N/A")))} -> N/A | S10: {=IF(Data!$E10="No","N/A",(_xlfn.IFS(Data!$BS10="","In progress",Data!$BT10="","In progress",ISNUMBER(Data!$BS10),(Data!$BS10-Data!$BN10),Data!$BS10="N/A","N/A")))} -> N/A

Sheet Metrics (High-Level)
A1: Performance Metrics (High-Level)
A2: Project Name | B2: Applicant(s) | C2: Application No. | D2: Permit Type | E2: CEQA Document Type | F2: Filed Under | G2: Federal Involvement | H2: Clock: Pre-Filing Time to Date | I2: Clock: Total Time to Deem Application Complete | J2: Clock: Total CEQA Time | K2: Clock: Total CPUC Permit Time | L2: Clock: Total NEPA Time | M2: Number of Deficiency Letters | N2: Number of Data Requests | O2: Number of Amendments | P2: Status
A3: Gorman-Kern River TLRR Project | B3: Southern California Edison (SCE) | C3: A.22-02-014 | D3: PTC | E3: IS/MND | F3: =Data!D3 -> GO 131-D | G3: =Data!E3 -> Yes | H3: =IF(ISNUMBER(Data!$U3),(Data!$U3-Data!$T3),IF(ISNUMBER(Data!$T3),(46294-Data!$T3),"TBD")) -> 227 | I3: =IF(ISNUMBER(Data!AE3),(Data!$AE3-Data!$U3),IF(ISNUMBER(Data!U3),"In progress","TBD")) -> 569 | J3: =IF(ISNUMBER(Data!$BH3),(Data!$BH3-Data!$AE3),(IF(ISNUMBER(Data!$AE3),(46294-Data!$AE3),"TBD"))) -> 554 | K3: =IF(Data!$BK3="",IF(ISNUMBER(Data!$U3),(46294-Data!$AE3),"TBD"),(Data!$BK3-Data!$AE3)) -> 771 | L3: =IF(Data!$E3="No", "N/A",IF(ISNUMBER(Data!$BN3),(46294-Data!$BN3),"TBD")) -> TBD | M3: ='Metrics (Detailed)'!$F3 -> 3 | N3: ='Metrics (Detailed)'!$I3 -> 6 | O3: =IF(Data!$AF3="N/A",0,COUNT(Data!$AF3:'Data'!$AH3)) -> 0 | P3: Approved
A4: Manning 500/230 kV Substation Project | B4: LS Power Grid California (LSPGC) | C4: A.24-06-017 | D4: CPCN | E4: IS/MND | F4: =Data!D4 -> GO 131-D | G4: =Data!E4 -> No | H4: =IF(ISNUMBER(Data!$U4),(Data!$U4-Data!$T4),IF(ISNUMBER(Data!$T4),(46294-Data!$T4),"TBD")) -> 149 | I4: =IF(ISNUMBER(Data!AE4),(Data!$AE4-Data!$U4),IF(ISNUMBER(Data!U4),"In progress","TBD")) -> 26 | J4: =IF(ISNUMBER(Data!$BH4),(Data!$BH4-Data!$AE4),(IF(ISNUMBER(Data!$AE4),(46294-Data!$AE4),"TBD"))) -> 332 | K4: =IF(Data!$BK4="",IF(ISNUMBER(Data!$U4),(46294-Data!$AE4),"TBD"),(Data!$BK4-Data!$AE4)) -> 421 | L4: =IF(Data!$E4="No", "N/A",IF(ISNUMBER(Data!$BN4),(46294-Data!$BN4),"TBD")) -> N/A | M4: ='Metrics (Detailed)'!$F4 -> 0 | N4: ='Metrics (Detailed)'!$I4 -> 4 | O4: =IF(Data!$AF4="N/A",0,COUNT(Data!$AF4:'Data'!$AH4)) -> 0 | P4: Approved
A5: Plainfield Substation Project | B5: Pacific Gas & Electric (PG&E) | C5: A.24-06-008 | D5: PTC | E5: IS/MND | F5: =Data!D5 -> GO 131-D | G5: =Data!E5 -> No | H5: =IF(ISNUMBER(Data!$U5),(Data!$U5-Data!$T5),IF(ISNUMBER(Data!$T5),(46294-Data!$T5),"TBD")) -> 200 | I5: =IF(ISNUMBER(Data!AE5),(Data!$AE5-Data!$U5),IF(ISNUMBER(Data!U5),"In progress","TBD")) -> 29 | J5: =IF(ISNUMBER(Data!$BH5),(Data!$BH5-Data!$AE5),(IF(ISNUMBER(Data!$AE5),(46294-Data!$AE5),"TBD"))) -> 356 | K5: =IF(Data!$BK5="",IF(ISNUMBER(Data!$U5),(46294-Data!$AE5),"TBD"),(Data!$BK5-Data!$AE5)) -> 491 | L5: =IF(Data!$E5="No", "N/A",IF(ISNUMBER(Data!$BN5),(46294-Data!$BN5),"TBD")) -> N/A | M5: ='Metrics (Detailed)'!$F5 -> 0 | N5: ='Metrics (Detailed)'!$I5 -> 2 | O5: =IF(Data!$AF5="N/A",0,COUNT(Data!$AF5:'Data'!$AH5)) -> 0 | P5: Approved
A6: Power the South Bay Project | B6: LS Power Grid California (LSPGC) | C6: A.24-05-014 | D6: CPCN | E6: EIR | F6: =Data!D6 -> GO 131-D | G6: =Data!E6 -> No | H6: =IF(ISNUMBER(Data!$U6),(Data!$U6-Data!$T6),IF(ISNUMBER(Data!$T6),(46294-Data!$T6),"TBD")) -> 86 | I6: =IF(ISNUMBER(Data!AE6),(Data!$AE6-Data!$U6),IF(ISNUMBER(Data!U6),"In progress","TBD")) -> 27 | J6: =IF(ISNUMBER(Data!$BH6),(Data!$BH6-Data!$AE6),(IF(ISNUMBER(Data!$AE6),(46294-Data!$AE6),"TBD"))) -> 547 | K6: =IF(Data!$BK6="",IF(ISNUMBER(Data!$U6),(46294-Data!$AE6),"TBD"),(Data!$BK6-Data!$AE6)) -> 644 | L6: =IF(Data!$E6="No", "N/A",IF(ISNUMBER(Data!$BN6),(46294-Data!$BN6),"TBD")) -> N/A | M6: ='Metrics (Detailed)'!$F6 -> 0 | N6: ='Metrics (Detailed)'!$I6 -> 8 | O6: =IF(Data!$AF6="N/A",0,COUNT(Data!$AF6:'Data'!$AH6)) -> 1 | P6: Approved
A7: Ironwood Transmission Line Project | B7: Horizon West Transmission (HWT) | C7: A.25-09-008 | D7: CPCN | E7: EIR | F7: GO 131-E | G7: Yes | H7: =IF(ISNUMBER(Data!$U7),(Data!$U7-Data!$T7),IF(ISNUMBER(Data!$T7),(46294-Data!$T7),"TBD")) -> 220 | I7: =IF(ISNUMBER(Data!AE7),(Data!$AE7-Data!$U7),IF(ISNUMBER(Data!U7),"In progress","TBD")) -> 169 | J7: =IF(ISNUMBER(Data!$BH7),(Data!$BH7-Data!$AE7),(IF(ISNUMBER(Data!$AE7),(46294-Data!$AE7),"TBD"))) -> 203 | K7: =IF(Data!$BK7="",IF(ISNUMBER(Data!$U7),(46294-Data!$AE7),"TBD"),(Data!$BK7-Data!$AE7)) -> 203 | L7: =IF(Data!$E7="No", "N/A",IF(ISNUMBER(Data!$BN7),(46294-Data!$BN7),"TBD")) -> 564 | M7: ='Metrics (Detailed)'!$F7 -> 1 | N7: ='Metrics (Detailed)'!$I7 -> 0 | O7: =IF(Data!$AF7="N/A",0,COUNT(Data!$AF7:'Data'!$AH7)) -> 0 | P7: Draft Document Preparation
A8: Orange Regional Transmission Project | B8: Southern California Edison (SCE) | C8: TBD | D8: CPCN | E8: EIR (expected) | F8: =Data!D8 -> GO 131-E | G8: =Data!E8 -> No | H8: =IF(ISNUMBER(Data!$U8),(Data!$U8-Data!$T8),IF(ISNUMBER(Data!$T8),(46294-Data!$T8),"TBD")) -> 140 | I8: =IF(ISNUMBER(Data!AE8),(Data!$AE8-Data!$U8),IF(ISNUMBER(Data!U8),"In progress","TBD")) -> TBD | J8: =IF(ISNUMBER(Data!$BH8),(Data!$BH8-Data!$AE8),(IF(ISNUMBER(Data!$AE8),(46294-Data!$AE8),"TBD"))) -> TBD | K8: =IF(Data!$BK8="",IF(ISNUMBER(Data!$U8),(46294-Data!$AE8),"TBD"),(Data!$BK8-Data!$AE8)) -> TBD | L8: =IF(Data!$E8="No", "N/A",IF(ISNUMBER(Data!$BN8),(46294-Data!$BN8),"TBD")) -> N/A | M8: ='Metrics (Detailed)'!$F8 -> 0 | N8: ='Metrics (Detailed)'!$I8 -> 0 | O8: =IF(Data!$AF8="N/A",0,COUNT(Data!$AF8:'Data'!$AH8)) -> 0 | P8: Pending
A9: Suncrest 230 kV Loop-in Project | B9: San Diego Gas & Electric (SDG&E) | C9: A.26-05-005 | D9: PTC | E9: EIR | F9: =Data!D9 -> GO 131-E | G9: =Data!E9 -> Yes | H9: =IF(ISNUMBER(Data!$U9),(Data!$U9-Data!$T9),IF(ISNUMBER(Data!$T9),(46294-Data!$T9),"TBD")) -> 324 | I9: =IF(ISNUMBER(Data!AE9),(Data!$AE9-Data!$U9),IF(ISNUMBER(Data!U9),"In progress","TBD")) -> 27 | J9: =IF(ISNUMBER(Data!$BH9),(Data!$BH9-Data!$AE9),(IF(ISNUMBER(Data!$AE9),(46294-Data!$AE9),"TBD"))) -> 117 | K9: =IF(Data!$BK9="",IF(ISNUMBER(Data!$U9),(46294-Data!$AE9),"TBD"),(Data!$BK9-Data!$AE9)) -> 117 | L9: =IF(Data!$E9="No", "N/A",IF(ISNUMBER(Data!$BN9),(46294-Data!$BN9),"TBD")) -> 362 | M9: ='Metrics (Detailed)'!$F9 -> 0 | N9: ='Metrics (Detailed)'!$I9 -> 0 | O9: =IF(Data!$AF9="N/A",0,COUNT(Data!$AF9:'Data'!$AH9)) -> 0 | P9: Draft Document Preparation
A10: Timepiece 115/33 kV Substation Project | B10: Southern California Edison (SCE) | C10: TBD | D10: PTC | E10: IS/MND (expected) | F10: =Data!D10 -> GO 131-E | G10: =Data!E10 -> No | H10: =IF(ISNUMBER(Data!$U10),(Data!$U10-Data!$T10),IF(ISNUMBER(Data!$T10),(46294-Data!$T10),"TBD")) -> TBD | I10: =IF(ISNUMBER(Data!AE10),(Data!$AE10-Data!$U10),IF(ISNUMBER(Data!U10),"In progress","TBD")) -> TBD | J10: =IF(ISNUMBER(Data!$BH10),(Data!$BH10-Data!$AE10),(IF(ISNUMBER(Data!$AE10),(46294-Data!$AE10),"TBD"))) -> TBD | K10: =IF(Data!$BK10="",IF(ISNUMBER(Data!$U10),(46294-Data!$AE10),"TBD"),(Data!$BK10-Data!$AE10)) -> TBD | L10: =IF(Data!$E10="No", "N/A",IF(ISNUMBER(Data!$BN10),(46294-Data!$BN10),"TBD")) -> N/A | M10: ='Metrics (Detailed)'!$F10 -> 0 | N10: ='Metrics (Detailed)'!$I10 -> 0 | O10: =IF(Data!$AF10="N/A",0,COUNT(Data!$AF10:'Data'!$AH10)) -> 0 | P10: Pending
